Workbook

Sheet Read Me
C2: Mode d'emploi du remplissage de la trame du plan de prévention et d'éco-conception (PPE) applicable aux batteries
C3: Les zones à remplir sont sur fond vert :
C4: Zones à remplir
C5: Ne modifiez pas la trame, cela la rendrait inexploitable par ecosystem.
C6: Enregistrer le fichier avec un nom personnalisé (exemple : "PPE_batteries_Nom de votre entreprise").
C8: Remplir en premier lieu l'onglet "fiche info producteur" :
C9: Le nom de l'entreprise et son IDU (identifiant unique de l'ADEME).
C10: La date de mise en application du PPE et la date de mise à jour (date de mise en application +5ans).
C11: Un paragraphe sur la stratégie globale d'écoconception de votre entreprise.
C12: Cocher les catégories de batteries que vous mettrez sur le marché sur la période de validité du PPE.
C13: Cocher la ou les catégories de metteurs sur le marché correspondant à votre entreprise.
C15: Remplir l'onglet "FR - Trame Batterie"
... C34: Télécharger la FAQ

Sheet Fiche info producteur
A1: Plan de prévention et d'éco-conception
C4: Nom de l'entreprise | D4: A renseigner
C6: Numéro d'identification unique ADEME : | D6: A renseigner
B8: Date de mise en application | C8: A renseigner MM/AAAA
B9: Date maximum de mise à jour du PPE | C9: A renseigner MM/AAAA | D9: (= Date de mise en application + 5 ans)
B11: Plan de prévention et d'éco-conception (PPE) de l'entreprise (synthèse, vision globale du top management) | D11: A renseigner
B15: Catégorie(s) de batterie(s) concernée(s) par ce PPE | C15: cocher les catégories sur lesquelles vous allez déclarer des mises sur le marché
B16: Batteries portables | C16: FALSE
B17: Batteries MTL | C17: FALSE
B18: Batteries SLI | C18: FALSE
B19: Batteries industrielles | C19: FALSE
B20: Batteries véhicules électriques (VEH) | C20: FALSE
B22: Catégorie(s) de metteur sur le marché | C22: cocher la ou les cases concernant votre entreprise
B23: Fabriquant | C23: FALSE
B24: Importateur - revendeur | C24: FALSE
B25: Vendeur sous sa propre marque | C25: FALSE
B26: Vendeur Tiers (via marcket place) | C26: FALSE
B27: Acteurs de la seconde vie | C27: FALSE

Sheet FR - Trame Batterie
A1: Plan de prévention et d'éco-conception
K3: =IF('Fiche info producteur'!D4="A renseigner"," ",'Fiche info producteur'!D4) | L3: =IF('Fiche info producteur'!C8="A renseigner MM/AAAA"," ","PPE de "&'Fiche info producteur'!C8&" à "&'Fiche info producteur'!C9)
H8: info pratique: | I8: En filtrant la colonne « Concerné » (colonne I) sur la valeur « Vrai », seules les suggestions applicables à vos catégories de batteries (préalablement renseignées dans l’onglet « Fiche info producteur ») seront affichées.
B9: LEVIERS | D9: catégories concernées | J9: INDICATEURS et OBJECTIFS
B10: Axes principaux d'éco-conception | C10: Sous-axes d'intervention | D10: portable | E10: MTL | F10: SLI | G10: industrielle | H10: VEH | I10: concerné | J10: Description des actions (par ordre de priorité) | K10: Indicateur de suivi quantitatif ou qualitatif | L10: Valeur de l'indicateur à la date de mise en application | M10: Objectif à 5 ans | N10: périmètre produit sur lequel s'applique l'action
B11: 1. Réduire l'usage de ressources non renouvelables | C11: Réduire l'utilisation de métaux rares et stratégiques | D11: x | E11: x | G11: x | H11: x | I11: {=SUMPRODUCT(--(D11:H11="X"),--TRANSPOSE('Fiche info producteur'!$C$16:$C$20))>0} -> FALSE
C12: Eviter le surdimensionnement de la batterie | D12: x | E12: x | H12: x | I12: {=SUMPRODUCT(--(D12:H12="X"),--TRANSPOSE('Fiche info producteur'!$C$16:$C$20))>0} -> FALSE
C13: Autres pistes de réduction de l'usage de ressources non renouvelables | D13: x | E13: x | F13: x | G13: x | H13: x | I13: {=SUMPRODUCT(--(D13:H13="X"),--TRANSPOSE('Fiche info producteur'!$C$16:$C$20))>0} -> FALSE
B14: 2. Accroître l'utilisation de matières recyclées | C14: Incorporation de matière recyclée | D14: x | E14: x | G14: x | H14: x | I14: {=SUMPRODUCT(--(D14:H14="X"),--TRANSPOSE('Fiche info producteur'!$C$16:$C$20))>0} -> FALSE
C15: Identifier les fournisseurs, mettre en place des partenariats | D15: x | E15: x | F15: x | G15: x | H15: x | I15: {=SUMPRODUCT(--(D15:H15="X"),--TRANSPOSE('Fiche info producteur'!$C$16:$C$20))>0} -> FALSE
C16: Autres pistes pour accroître l'utilisation de matières recyclées | D16: x | E16: x | F16: x | G16: x | H16: x | I16: {=SUMPRODUCT(--(D16:H16="X"),--TRANSPOSE('Fiche info producteur'!$C$16:$C$20))>0} -> FALSE
B17: 3. Accroître la recyclabilité de ses produits dans les installations de traitement situées sur le territoire national | C17: Séparabilité des cellules / modules | E17: x | F17: x | G17: x | H17: x | I17: {=SUMPRODUCT(--(D17:H17="X"),--TRANSPOSE('Fiche info producteur'!$C$16:$C$20))>0} -> FALSE
C18: Démontabilité du casing | D18: x | E18: x | G18: x | H18: x | I18: {=SUMPRODUCT(--(D18:H18="X"),--TRANSPOSE('Fiche info producteur'!$C$16:$C$20))>0} -> FALSE
C19: Autres pistes de conception en vue de la fin de vie | D19: x | E19: x | F19: x | G19: x | H19: x | I19: {=SUMPRODUCT(--(D19:H19="X"),--TRANSPOSE('Fiche info producteur'!$C$16:$C$20))>0} -> FALSE
C20: Autres pistes | D20: x | E20: x | F20: x | G20: x | H20: x | I20: {=SUMPRODUCT(--(D20:H20="X"),--TRANSPOSE('Fiche info producteur'!$C$16:$C$20))>0} -> FALSE
B21: 4. Allongement de la durée de vie | C21: Equilibrage des cellules | D21: x | E21: x | G21: x | I21: {=SUMPRODUCT(--(D21:H21="X"),--TRANSPOSE('Fiche info producteur'!$C$16:$C$20))>0} -> FALSE
C22: Optimisation des cycles de charges et de décharges (via le BMS par exemple) | E22: x | G22: x | H22: x | I22: {=SUMPRODUCT(--(D22:H22="X"),--TRANSPOSE('Fiche info producteur'!$C$16:$C$20))>0} -> FALSE
C23: Autres pistes d'allongement de la durée de vie | D23: x | E23: x | F23: x | G23: x | H23: x | I23: {=SUMPRODUCT(--(D23:H23="X"),--TRANSPOSE('Fiche info producteur'!$C$16:$C$20))>0} -> FALSE
B24: 5. Communication / affichage | C24: Faciliter l’accès à l’information : marquage clair, informations sur la capacité, la composition chimique, les consignes de sécurité, de retrait et de recyclage | D24: x | E24: x | F24: x | G24: x | H24: x | I24: {=SUMPRODUCT(--(D24:H24="X"),--TRANSPOSE('Fiche info producteur'!$C$16:$C$20))>0} -> FALSE
C25: Marquage et information de tri et collecte séparée destiné aux consommateurs | D25: x | E25: x | F25: x | I25: {=SUMPRODUCT(--(D25:H25="X"),--TRANSPOSE('Fiche info producteur'!$C$16:$C$20))>0} -> FALSE
C26: Autres pistes de communicartion / affichage | D26: x | E26: x | F26: x | G26: x | H26: x | I26: {=SUMPRODUCT(--(D26:H26="X"),--TRANSPOSE('Fiche info producteur'!$C$16:$C$20))>0} -> FALSE
B27: 5. Autres typologies de levier | C27: Autres pistes | D27: x | E27: x | F27: x | G27: x | H27: x | I27: {=SUMPRODUCT(--(D27:H27="X"),--TRANSPOSE('Fiche info producteur'!$C$16:$C$20))>0} -> FALSE
C28: Autres pistes | D28: x | E28: x | F28: x | G28: x | H28: x | I28: {=SUMPRODUCT(--(D28:H28="X"),--TRANSPOSE('Fiche info producteur'!$C$16:$C$20))>0} -> FALSE
C29: Autres pistes | D29: x | E29: x | F29: x | G29: x | H29: x | I29: {=SUMPRODUCT(--(D29:H29="X"),--TRANSPOSE('Fiche info producteur'!$C$16:$C$20))>0} -> FALSE
C30: Autres pistes | D30: x | E30: x | F30: x | G30: x | H30: x | I30: {=SUMPRODUCT(--(D30:H30="X"),--TRANSPOSE('Fiche info producteur'!$C$16:$C$20))>0} -> FALSE
