Workbook

Sheet Read Me
C2: Instructions for filling in the template of the prevention and eco-design plan (PPE) applicable to batteries
C3: Les zones à remplir sont sur fond vert :
C4: areas to be filled in
C5: Do not modify the template, as this will make it unusable by ecosystem.
C6: Save the file with a custom name (e.g., "PPE_batteries_Name of your company").
C8: First fill in the "producer information sheet" tab:
C9: The name of the company and its UDI (ADEME's unique identifier).
C10: The date of implementation of the PPEand the date of update (date of implementation +5 years).
C11: A paragraph on your company's overall eco-design strategy.
C12: Check the categories of batteries that you will place on the market during the period of validity of the EPP.
C13: Check the category(ies) of marketers corresponding to your company.
C15: Fill in the "FR - Battery Template" tab
... C34: Download the FAQ

Sheet producer information sheet
A1: Prevention and eco-design plan
C4: Company Name | D4: To be filled in
C6: ADEME unique identification number: | D6: To be filled in
B8: Implementation date | C8: MM/AAAA
B9: Maximum date for updating the PPE | C9: MM/AAAA | D9: (= Implementation date + 5 years)
B11: company's prevention and eco-design plan (PPE) (summary, global vision of top management) | D11: To be filled in
B15: Battery category(ies) covered by this PPE | C15: tick the categories on which you are going to declare
B16: Portable battery | C16: FALSE
B17: Light means of transport battery (LMT) | C17: FALSE
B18: Starting, lighting and ignition battery (SLI) | C18: FALSE
B19: Industrial battery | C19: FALSE
B20: Electric vehicle battery | C20: FALSE
B22: Category(ies) of marketer | C22: Check the box(es) for your business
B23: Fabriquant | C23: FALSE
B24: Importateur - revendeur | C24: FALSE
B25: Vendeur sous sa propre marque | C25: FALSE
B26: Vendeur Tiers (via marcket place) | C26: FALSE
B27: Acteurs de la seconde vie | C27: FALSE

Sheet FR - Battery Template
A1: Prevention and eco-design plan
K3: =IF('producer information sheet'!D4="To be filled in"," ",'producer information sheet'!D4) | L3: =IF('producer information sheet'!C8=" MM/AAAA"," ","PPE de "&'producer information sheet'!C8&" à "&'producer information sheet'!C9)
H8: info : | I8: By filtering the "Relevant" column (column I) to the "True" value, only the suggestions applicable to your battery categories (previously filled in in the "Producer info sheet" tab) will be displayed.
B9: Levers | D9: Relevant categories | J9: INDICATEURS et OBJECTIFS
B10: Main ecodesign areas | C10: Sous-axes d'intervention | D10: portable | E10: LMT | F10: SLI | G10: industrial | H10: EV | I10: relevant | J10: action description | K10: Quantitative or qualitative monitoring indicator | L10: indicator value at the date of implementation | M10: 5-year objective | N10: product scope for this action
B11: 1. Reduction of non-renewable resources use | C11: Reducing the use of rare and strategic metals | D11: x | E11: x | G11: x | H11: x | I11: {=SUMPRODUCT(--(D11:H11="X"),--TRANSPOSE('producer information sheet'!$C$16:$C$20))>0} -> FALSE
C12: Avoid batteries oversizing | D12: x | E12: x | H12: x | I12: {=SUMPRODUCT(--(D12:H12="X"),--TRANSPOSE('producer information sheet'!$C$16:$C$20))>0} -> FALSE
C13: Other opportunity to reduce the use of non-renewable resources | D13: x | E13: x | F13: x | G13: x | H13: x | I13: {=SUMPRODUCT(--(D13:H13="X"),--TRANSPOSE('producer information sheet'!$C$16:$C$20))>0} -> FALSE
B14: 2. Increased recycled materials use | C14: Incorporation of recycled material | D14: x | E14: x | G14: x | H14: x | I14: {=SUMPRODUCT(--(D14:H14="X"),--TRANSPOSE('producer information sheet'!$C$16:$C$20))>0} -> FALSE
C15: Identify suppliers, set up partnerships | D15: x | E15: x | F15: x | G15: x | H15: x | I15: {=SUMPRODUCT(--(D15:H15="X"),--TRANSPOSE('producer information sheet'!$C$16:$C$20))>0} -> FALSE
C16: Other opportunity to increase the use of recycled materials | D16: x | E16: x | F16: x | G16: x | H16: x | I16: {=SUMPRODUCT(--(D16:H16="X"),--TRANSPOSE('producer information sheet'!$C$16:$C$20))>0} -> FALSE
B17: 3. Increased product's recyclability in processing facilities located on the national territory | C17: Cell/module separability | E17: x | F17: x | G17: x | H17: x | I17: {=SUMPRODUCT(--(D17:H17="X"),--TRANSPOSE('producer information sheet'!$C$16:$C$20))>0} -> FALSE
C18: Casing dismantlability | D18: x | E18: x | G18: x | H18: x | I18: {=SUMPRODUCT(--(D18:H18="X"),--TRANSPOSE('producer information sheet'!$C$16:$C$20))>0} -> FALSE
C19: Other end-of-life design options | D19: x | E19: x | F19: x | G19: x | H19: x | I19: {=SUMPRODUCT(--(D19:H19="X"),--TRANSPOSE('producer information sheet'!$C$16:$C$20))>0} -> FALSE
C20: other lever | D20: x | E20: x | F20: x | G20: x | H20: x | I20: {=SUMPRODUCT(--(D20:H20="X"),--TRANSPOSE('producer information sheet'!$C$16:$C$20))>0} -> FALSE
B21: 4. increased usefull life | C21: Cells balancing | D21: x | E21: x | G21: x | I21: {=SUMPRODUCT(--(D21:H21="X"),--TRANSPOSE('producer information sheet'!$C$16:$C$20))>0} -> FALSE
C22: Optimization of charging and discharging cycles (via BMS for example) | E22: x | G22: x | H22: x | I22: {=SUMPRODUCT(--(D22:H22="X"),--TRANSPOSE('producer information sheet'!$C$16:$C$20))>0} -> FALSE
C23: Other ways to extend the lifespan | D23: x | E23: x | F23: x | G23: x | H23: x | I23: {=SUMPRODUCT(--(D23:H23="X"),--TRANSPOSE('producer information sheet'!$C$16:$C$20))>0} -> FALSE
B24: 5. Communication / information | C24: Facilitate access to information: clear marking, information on capacity, chemical composition, safety, removal and recycling instructions | D24: x | E24: x | F24: x | G24: x | H24: x | I24: {=SUMPRODUCT(--(D24:H24="X"),--TRANSPOSE('producer information sheet'!$C$16:$C$20))>0} -> FALSE
C25: Information on sorting and separate collection for consumers | D25: x | E25: x | F25: x | I25: {=SUMPRODUCT(--(D25:H25="X"),--TRANSPOSE('producer information sheet'!$C$16:$C$20))>0} -> FALSE
C26: other lever of communication / information | D26: x | E26: x | F26: x | G26: x | H26: x | I26: {=SUMPRODUCT(--(D26:H26="X"),--TRANSPOSE('producer information sheet'!$C$16:$C$20))>0} -> FALSE
B27: Other ecodesign areas | C27: other lever | D27: x | E27: x | F27: x | G27: x | H27: x | I27: {=SUMPRODUCT(--(D27:H27="X"),--TRANSPOSE('producer information sheet'!$C$16:$C$20))>0} -> FALSE
C28: other lever | D28: x | E28: x | F28: x | G28: x | H28: x | I28: {=SUMPRODUCT(--(D28:H28="X"),--TRANSPOSE('producer information sheet'!$C$16:$C$20))>0} -> FALSE
C29: other lever | D29: x | E29: x | F29: x | G29: x | H29: x | I29: {=SUMPRODUCT(--(D29:H29="X"),--TRANSPOSE('producer information sheet'!$C$16:$C$20))>0} -> FALSE
C30: other lever | D30: x | E30: x | F30: x | G30: x | H30: x | I30: {=SUMPRODUCT(--(D30:H30="X"),--TRANSPOSE('producer information sheet'!$C$16:$C$20))>0} -> FALSE

Sheet Feuil1
F14: Reducing the use of non-renewable materials (axis mentioned in the Act)
F17: Increasing the use of recycled materials (axis mentioned in the Act)
F20: Increasing the recyclability of products (axis mentioned in the Act)
